BEGIN:VCALENDAR
VERSION:2.0
PRODID:-//Squarespace Inc/Squarespace 6//v6//EN
BEGIN:VEVENT
UID:59b471d7b07869610d090e4e@squarespace.com
DTSTAMP:20180926T062505Z
DTSTART:20190711T040000Z
DTEND:20190716T010000Z
SUMMARY:Mount Cook Winter - Aoraki NP New Zealand
GEO:-43.910516;170.122138
LOCATION:Mount Cook Village\, New Zealand
END:VEVENT
END:VCALENDAR
