BEGIN:VCALENDAR
VERSION:2.0
PRODID:-//Squarespace Inc/Squarespace 6//v6//EN
BEGIN:VEVENT
UID:5666638ebfe87338abb44ebd@squarespace.com
DTSTAMP:20180724T022906Z
DTSTART:20181113T030000Z
DTEND:20181124T180000Z
SUMMARY:Japan Autumn Colours and Snow Monkeys 2018
GEO:35.011636;135.768029
LOCATION:Kyoto\, Japan
END:VEVENT
END:VCALENDAR
