BEGIN:VCALENDAR
VERSION:2.0
PRODID:-//Squarespace Inc/Squarespace 6//v6//EN
BEGIN:VEVENT
UID:59585e0c9f74562cf8ec6fac@squarespace.com
DTSTAMP:20181003T045019Z
DTSTART:20190321T030000Z
DTEND:20190326T000000Z
SUMMARY:Otago Landscape Photography 2019
GEO:-45.36446;170.858508
LOCATION:27 Te Karita Rd\, Moeraki\, OTA\, 9482\, New Zealand
END:VEVENT
END:VCALENDAR
