BEGIN:VCALENDAR
VERSION:2.0
PRODID:-//Squarespace Inc/Squarespace 6//v6//EN
BEGIN:VEVENT
UID:566247f6e4b073dc4813ea50@squarespace.com
DTSTAMP:20180928T004534Z
DTSTART:20190419T040000Z
DTEND:20190422T010000Z
SUMMARY:Autumn Colours - Queenstown / Otago New Zealand
GEO:-45.031162;168.662644
LOCATION:Queenstown\, New Zealand
END:VEVENT
END:VCALENDAR
