BEGIN:VCALENDAR
VERSION:2.0
PRODID:-//Squarespace Inc/Squarespace 6//v6//EN
BEGIN:VEVENT
UID:5b9b2562032be4e77bcd6b42@squarespace.com
DTSTAMP:20181005T233325Z
DTSTART:20190926T040000Z
DTEND:20190930T230000Z
SUMMARY:Fiordland\, Doubtful and Milford Sound New Zealand
GEO:-44.849426;168.384934
LOCATION:27 Argyle St\, Glenorchy\, OTA\, 9372\, New Zealand
END:VEVENT
END:VCALENDAR
