BEGIN:VCALENDAR
VERSION:2.0
PRODID:-//Squarespace Inc/Squarespace 6//v6//EN
BEGIN:VEVENT
UID:595848da6b8f5bb92c0838ca@squarespace.com
DTSTAMP:20180805T062029Z
DTSTART:20181029T033000Z
DTEND:20181110T210000Z
SUMMARY:Myanmar (Burma) 2018
GEO:21.171727;94.858546
LOCATION:Bagan\, Myanmar
END:VEVENT
END:VCALENDAR
