BEGIN:VCALENDAR
VERSION:2.0
PRODID:-//Squarespace Inc/Squarespace 6//v6//EN
BEGIN:VEVENT
UID:57f07df36b8f5b23c532d056@squarespace.com
DTSTAMP:20181016T032606Z
DTSTART:20191112T033000Z
DTEND:20191124T073000Z
SUMMARY:Japan Autumn Colours and Snow Monkeys 2019
END:VEVENT
END:VCALENDAR
