BEGIN:VCALENDAR
VERSION:2.0
PRODID:-//Squarespace Inc/Squarespace 6//v6//EN
BEGIN:VEVENT
UID:5859fd7746c3c4f25a97422f@squarespace.com
DTSTAMP:20180928T005411Z
DTSTART:20190516T040000Z
DTEND:20190521T010000Z
SUMMARY:The Catlins Landscape Photography  New Zealand
GEO:-46.4513;169.6583
LOCATION:Catlins\, New Zealand
END:VEVENT
END:VCALENDAR
