BEGIN:VCALENDAR
VERSION:2.0
PRODID:-//Squarespace Inc/Squarespace 6//v6//EN
BEGIN:VEVENT
UID:5a3b34508165f5e2c865921b@squarespace.com
DTSTAMP:20181003T045217Z
DTSTART:20191126T033000Z
DTEND:20191210T210000Z
SUMMARY:The Silk Road - China  2019
GEO:39.467685;75.99379
LOCATION:Kashgar\, China
END:VEVENT
END:VCALENDAR
