BEGIN:VCALENDAR
VERSION:2.0
PRODID:-//Squarespace Inc/Squarespace 6//v6//EN
BEGIN:VEVENT
UID:5b613d836d2a730eade1247d@squarespace.com
DTSTAMP:20180928T005213Z
DTSTART:20200603T010000Z
DTEND:20200617T220000Z
SUMMARY:Kashmir / Ladakh (Northern India) 2020
END:VEVENT
END:VCALENDAR
