BEGIN:VCALENDAR
VERSION:2.0
PRODID:-//Squarespace Inc/Squarespace 6//v6//EN
BEGIN:VEVENT
UID:5bab147bf9619ab49f9f4ce6@squarespace.com
DTSTAMP:20181003T044806Z
DTSTART:20190822T040000Z
DTEND:20190827T000000Z
SUMMARY:South Westland Landscape Photography - New Zealand 
GEO:-43.859538;169.023122
LOCATION:277 Haast-Jackson Bay Rd\, Haast\, West Coast\, 7886\, New Zealand
END:VEVENT
END:VCALENDAR
