BEGIN:VCALENDAR
VERSION:2.0
PRODID:-//Squarespace Inc/Squarespace 6//v6//EN
BEGIN:VEVENT
UID:5bbd4bd5652deaeb1eb44f00@squarespace.com
DTSTAMP:20181010T005548Z
DTSTART:20201024T230000Z
DTEND:20201106T210000Z
SUMMARY:Tibet - China 2020
GEO:29.651258;91.175571
LOCATION:Jiangsu Ave\, Lasa Shi\, Xizang Zizhiqu\, China
END:VEVENT
END:VCALENDAR
